View In:
ArcGIS JavaScript
ArcGIS Online Map Viewer
ArcGIS Earth
ArcGIS Pro
Service Description: <DIV STYLE="text-align:Left;"><DIV><DIV><P><SPAN>Using Streets, Buildings and City boundary this shows local spatial data relevant to City of Peoria, AZ</SPAN></P></DIV></DIV></DIV>
Map Name: SimplebaseGrey
Legend
All Layers and Tables
Layers:
Description: <DIV STYLE="text-align:Left;"><DIV><DIV><P><SPAN>Using Streets, Buildings and City boundary this shows local spatial data relevant to City of Peoria, AZ</SPAN></P></DIV></DIV></DIV>
Service Item Id: c9ea4fd78d8d467a9328c24880212c4f
Copyright Text: City of Peoria, AZ
Spatial Reference:
2868
(2868)
LatestVCSWkid(0)
Single Fused Map Cache: true
Tile Info:
- Height: 256
- Width: 256
- DPI: 96
-
Levels of Detail: 19
-
Level ID: 0
[ Start Tile, End Tile ]
- Resolution: 256340.3392761419
- Scale: 2.9530407084611547E8
-
Level ID: 1
[ Start Tile, End Tile ]
- Resolution: 128170.16963807095
- Scale: 1.4765203542305773E8
-
Level ID: 2
[ Start Tile, End Tile ]
- Resolution: 64085.08481903547
- Scale: 7.382601771152887E7
-
Level ID: 3
[ Start Tile, End Tile ]
- Resolution: 32042.542409517737
- Scale: 3.6913008855764434E7
-
Level ID: 4
[ Start Tile, End Tile ]
- Resolution: 16021.271204758868
- Scale: 1.8456504427882217E7
-
Level ID: 5
[ Start Tile, End Tile ]
- Resolution: 8010.635602379434
- Scale: 9228252.213941108
-
Level ID: 6
[ Start Tile, End Tile ]
- Resolution: 4005.317801189717
- Scale: 4614126.106970554
-
Level ID: 7
[ Start Tile, End Tile ]
- Resolution: 2002.6589005948586
- Scale: 2307063.053485277
-
Level ID: 8
[ Start Tile, End Tile ]
- Resolution: 1001.3294502974293
- Scale: 1153531.5267426386
-
Level ID: 9
[ Start Tile, End Tile ]
- Resolution: 500.66472514871464
- Scale: 576765.7633713193
-
Level ID: 10
[ Start Tile, End Tile ]
- Resolution: 250.33236257435732
- Scale: 288382.88168565964
-
Level ID: 11
[ Start Tile, End Tile ]
- Resolution: 125.16618128717866
- Scale: 144191.44084282982
-
Level ID: 12
[ Start Tile, End Tile ]
- Resolution: 62.58309064358933
- Scale: 72095.72042141491
-
Level ID: 13
[ Start Tile, End Tile ]
- Resolution: 31.291545321794665
- Scale: 36047.860210707455
-
Level ID: 14
[ Start Tile, End Tile ]
- Resolution: 15.645772660897332
- Scale: 18023.930105353727
-
Level ID: 15
[ Start Tile, End Tile ]
- Resolution: 7.822886330448666
- Scale: 9011.965052676864
-
Level ID: 16
[ Start Tile, End Tile ]
- Resolution: 3.911443165224333
- Scale: 4505.982526338432
-
Level ID: 17
[ Start Tile, End Tile ]
- Resolution: 1.9557215826121666
- Scale: 2252.991263169216
-
Level ID: 18
[ Start Tile, End Tile ]
- Resolution: 0.9778607913060833
- Scale: 1126.495631584608
- Format: MIXED
- Compression Quality: 75.0
- Origin: X: -3.2111563427346162E7
Y: 2.1556211636084653E7
- Spatial Reference: 2868
(2868)
LatestVCSWkid(0)
Storage Info:
- Storage Format: esriMapCacheStorageModeCompactV2
- Packet Size: 128
Initial Extent:
XMin: 494319.34174883843
YMin: 925004.910451693
XMax: 639386.2985494196
YMax: 1078782.9957856424
Spatial Reference: 2868
(2868)
LatestVCSWkid(0)
Full Extent:
XMin: 503889.89652100205
YMin: 879723.9816463888
XMax: 660001.3199643195
YMax: 1101946.64820458
Spatial Reference: 2868
(2868)
LatestVCSWkid(0)
Units: esriFeet
Supported Image Format Types: PNG32,PNG24,PNG,JPG,DIB,TIFF,EMF,PS,PDF,GIF,SVG,SVGZ,BMP
Document Info:
Title: Simplebase
Author:
Comments: <DIV STYLE="text-align:Left;"><DIV><DIV><P><SPAN>Using Streets, Buildings and City boundary this shows local spatial data relevant to City of Peoria, AZ</SPAN></P></DIV></DIV></DIV>
Subject: This is a simple basemap showing only buildings and streets for use within City of Peoria, AZ
Category:
Keywords: streets
AntialiasingMode: Fast
TextAntialiasingMode: Force
Supports Dynamic Layers: false
MaxRecordCount: 1000
MaxImageHeight: 4096
MaxImageWidth: 4096
Supported Query Formats: JSON, geoJSON, PBF
Supports Query Data Elements: true
Min Scale: 2.9530407084611547E8
Max Scale: 2252.991263169216
Supports Datum Transformation: true
Child Resources:
Info
Supported Operations:
QueryLegends
EstimateExportTilesSize
ExportTiles
Return Updates