{ "cimVersion": "3.1.0", "serviceDescription": "
Using Streets, Buildings and City boundary this shows local spatial data relevant to City of Peoria, AZ<\/SPAN><\/P><\/DIV><\/DIV><\/DIV>",
"mapName": "SimplebaseGrey",
"description": " Using Streets, Buildings and City boundary this shows local spatial data relevant to City of Peoria, AZ<\/SPAN><\/P><\/DIV><\/DIV><\/DIV>",
"copyrightText": "City of Peoria, AZ",
"supportsDynamicLayers": false,
"layers": [
{
"id": 0,
"name": "StreetCenterlineMajor",
"parentLayerId": -1,
"defaultVisibility": true,
"subLayerIds": null,
"minScale": 0,
"maxScale": 0,
"type": "Feature Layer",
"geometryType": "esriGeometryPolyline",
"supportsDynamicLegends": true
},
{
"id": 1,
"name": "StreetCenterlineMinor",
"parentLayerId": -1,
"defaultVisibility": true,
"subLayerIds": null,
"minScale": 0,
"maxScale": 0,
"type": "Feature Layer",
"geometryType": "esriGeometryPolyline",
"supportsDynamicLegends": true
},
{
"id": 2,
"name": "Peoria Buildings",
"parentLayerId": -1,
"defaultVisibility": true,
"subLayerIds": null,
"minScale": 100000,
"maxScale": 0,
"type": "Feature Layer",
"geometryType": "esriGeometryPolygon",
"supportsDynamicLegends": true
},
{
"id": 3,
"name": "CityBoundary",
"parentLayerId": -1,
"defaultVisibility": true,
"subLayerIds": null,
"minScale": 0,
"maxScale": 0,
"type": "Feature Layer",
"geometryType": "esriGeometryPolygon",
"supportsDynamicLegends": true
},
{
"id": 4,
"name": "TileExtent",
"parentLayerId": -1,
"defaultVisibility": true,
"subLayerIds": null,
"minScale": 0,
"maxScale": 0,
"type": "Feature Layer",
"geometryType": "esriGeometryPolygon",
"supportsDynamicLegends": true
}
],
"tables": [],
"spatialReference": {
"wkid": 2868,
"latestWkid": 2868,
"xyTolerance": 0.0032808398950131233,
"zTolerance": 0.001,
"mTolerance": 0.001,
"falseX": -17746700,
"falseY": -44067300,
"xyUnits": 3048,
"falseZ": -100000,
"zUnits": 10000,
"falseM": -100000,
"mUnits": 10000
},
"singleFusedMapCache": true,
"tileInfo": {
"rows": 256,
"cols": 256,
"dpi": 96,
"format": "MIXED",
"compressionQuality": 75,
"origin": {
"x": -3.2111563427346162E7,
"y": 2.1556211636084653E7
},
"spatialReference": {
"wkid": 2868,
"latestWkid": 2868,
"xyTolerance": 0.0032808398950131233,
"zTolerance": 0.001,
"mTolerance": 0.001,
"falseX": -17746700,
"falseY": -44067300,
"xyUnits": 3048,
"falseZ": -100000,
"zUnits": 10000,
"falseM": -100000,
"mUnits": 10000
},
"lods": [
{
"level": 0,
"resolution": 256340.3392761419,
"scale": 2.9530407084611547E8
},
{
"level": 1,
"resolution": 128170.16963807095,
"scale": 1.4765203542305773E8
},
{
"level": 2,
"resolution": 64085.08481903547,
"scale": 7.382601771152887E7
},
{
"level": 3,
"resolution": 32042.542409517737,
"scale": 3.6913008855764434E7
},
{
"level": 4,
"resolution": 16021.271204758868,
"scale": 1.8456504427882217E7
},
{
"level": 5,
"resolution": 8010.635602379434,
"scale": 9228252.213941108
},
{
"level": 6,
"resolution": 4005.317801189717,
"scale": 4614126.106970554
},
{
"level": 7,
"resolution": 2002.6589005948586,
"scale": 2307063.053485277
},
{
"level": 8,
"resolution": 1001.3294502974293,
"scale": 1153531.5267426386
},
{
"level": 9,
"resolution": 500.66472514871464,
"scale": 576765.7633713193
},
{
"level": 10,
"resolution": 250.33236257435732,
"scale": 288382.88168565964
},
{
"level": 11,
"resolution": 125.16618128717866,
"scale": 144191.44084282982
},
{
"level": 12,
"resolution": 62.58309064358933,
"scale": 72095.72042141491
},
{
"level": 13,
"resolution": 31.291545321794665,
"scale": 36047.860210707455
},
{
"level": 14,
"resolution": 15.645772660897332,
"scale": 18023.930105353727
},
{
"level": 15,
"resolution": 7.822886330448666,
"scale": 9011.965052676864
},
{
"level": 16,
"resolution": 3.911443165224333,
"scale": 4505.982526338432
},
{
"level": 17,
"resolution": 1.9557215826121666,
"scale": 2252.991263169216
},
{
"level": 18,
"resolution": 0.9778607913060833,
"scale": 1126.495631584608
}
]
},
"storageInfo": {
"storageFormat": "esriMapCacheStorageModeCompactV2",
"packetSize": 128
},
"initialExtent": {
"xmin": 494319.34174883843,
"ymin": 925004.910451693,
"xmax": 639386.2985494196,
"ymax": 1078782.9957856424,
"spatialReference": {
"wkid": 2868,
"latestWkid": 2868,
"xyTolerance": 0.0032808398950131233,
"zTolerance": 0.001,
"mTolerance": 0.001,
"falseX": -17746700,
"falseY": -44067300,
"xyUnits": 3048,
"falseZ": -100000,
"zUnits": 10000,
"falseM": -100000,
"mUnits": 10000
}
},
"fullExtent": {
"xmin": 503889.89652100205,
"ymin": 879723.9816463888,
"xmax": 660001.3199643195,
"ymax": 1101946.64820458,
"spatialReference": {
"wkid": 2868,
"latestWkid": 2868,
"xyTolerance": 0.0032808398950131233,
"zTolerance": 0.001,
"mTolerance": 0.001,
"falseX": -17746700,
"falseY": -44067300,
"xyUnits": 3048,
"falseZ": -100000,
"zUnits": 10000,
"falseM": -100000,
"mUnits": 10000
}
},
"datesInUnknownTimezone": false,
"units": "esriFeet",
"supportedImageFormatTypes": "PNG32,PNG24,PNG,JPG,DIB,TIFF,EMF,PS,PDF,GIF,SVG,SVGZ,BMP",
"documentInfo": {
"Title": "Simplebase",
"Author": "",
"Comments": " Using Streets, Buildings and City boundary this shows local spatial data relevant to City of Peoria, AZ<\/SPAN><\/P><\/DIV><\/DIV><\/DIV>",
"Subject": "This is a simple basemap showing only buildings and streets for use within City of Peoria, AZ",
"Category": "",
"Version": "2.9.0",
"AntialiasingMode": "Fast",
"TextAntialiasingMode": "Force",
"Keywords": "streets"
},
"supportedQueryFormats": "JSON, geoJSON, PBF",
"referenceScale": 0.0,
"datumTransformations": [
{
"geoTransforms": [
{
"wkid": 1900,
"latestWkid": 1900,
"transformForward": true,
"name": "NAD_1983_HARN_To_WGS_1984_2"
}
]
},
{
"geoTransforms": [
{
"wkid": 1900,
"latestWkid": 1900,
"transformForward": false,
"name": "NAD_1983_HARN_To_WGS_1984_2"
}
]
}
],
"supportsDatumTransformation": true,
"floorAwareMapProperties": {
"defaultFloorFilterSettings": {"isEnabled": false}
},
"archivingInfo": {"supportsHistoricMoment": false},
"supportsClipping": true,
"supportsSpatialFilter": true,
"supportsTimeRelation": true,
"supportsQueryDataElements": true,
"mapUnits": {"uwkid": 9002},
"maxRecordCount": 1000,
"maxImageHeight": 4096,
"maxImageWidth": 4096,
"currentVersion": 12.9,
"capabilities": "TilesOnly,Tilemap",
"minScale": 2.9530407084611547E8,
"maxScale": 2252.991263169216,
"exportTilesAllowed": true,
"maxExportTilesCount": 1000000,
"supportedExtensions": "",
"serviceItemId": "c9ea4fd78d8d467a9328c24880212c4f"
}