View In:
ArcGIS JavaScript
ArcGIS Online Map Viewer
ArcGIS Earth
ArcGIS Pro
Service Description: <DIV STYLE="text-align:Left;"><DIV><DIV><P><SPAN>Using Streets, Buildings and City boundary this shows local spatial data relevant to City of Peoria, AZ</SPAN></P></DIV></DIV></DIV>
Map Name: SimplebaseGrey
Legend
All Layers and Tables
Layers:
Description: <DIV STYLE="text-align:Left;"><DIV><DIV><P><SPAN>Using Streets, Buildings and City boundary this shows local spatial data relevant to City of Peoria, AZ</SPAN></P></DIV></DIV></DIV>
Service Item Id: 8b17628bb08b4ce69356ba0334743279
Copyright Text: City of Peoria, AZ
Spatial Reference:
102100
(3857)
LatestVCSWkid(0)
Single Fused Map Cache: true
Tile Info:
- Height: 256
- Width: 256
- DPI: 96
-
Levels of Detail: 24
-
Level ID: 1
[ Start Tile, End Tile ]
- Resolution: 78271.5169639999
- Scale: 2.95828763795777E8
-
Level ID: 2
[ Start Tile, End Tile ]
- Resolution: 39135.7584820001
- Scale: 1.47914381897889E8
-
Level ID: 3
[ Start Tile, End Tile ]
- Resolution: 19567.8792409999
- Scale: 7.3957190948944E7
-
Level ID: 4
[ Start Tile, End Tile ]
- Resolution: 9783.93962049996
- Scale: 3.6978595474472E7
-
Level ID: 5
[ Start Tile, End Tile ]
- Resolution: 4891.96981024998
- Scale: 1.8489297737236E7
- Format: PNG
- Compression Quality: 0.0
- Origin: X: -2.0037508342787E7
Y: 2.0037508342787E7
- Spatial Reference: 102100
(3857)
LatestVCSWkid(0)
Storage Info:
- Storage Format: esriMapCacheStorageModeCompactV2
- Packet Size: 128
Initial Extent:
XMin: -1.257327679679969E7
YMin: 3925449.313567231
XMax: -1.2425842747811157E7
YMax: 4064141.9422749747
Spatial Reference: 102100
(0)
LatestVCSWkid(0)
Full Extent:
XMin: -1.252541485267738E7
YMin: 3951207.429702491
XMax: -1.2474956203204082E7
YMax: 4030879.751898752
Spatial Reference: 102100
(0)
LatestVCSWkid(0)
Units: esriMeters
Supported Image Format Types: PNG32,PNG24,PNG,JPG,DIB,TIFF,EMF,PS,PDF,GIF,SVG,SVGZ,BMP
Document Info:
Title: Simplebase
Author:
Comments: <DIV STYLE="text-align:Left;"><DIV><DIV><P><SPAN>Using Streets, Buildings and City boundary this shows local spatial data relevant to City of Peoria, AZ</SPAN></P></DIV></DIV></DIV>
Subject: This is a simple basemap showing only buildings and streets for use within City of Peoria, AZ
Category:
Keywords: streets
AntialiasingMode: Fast
TextAntialiasingMode: Force
Supports Dynamic Layers: false
MaxRecordCount: 1000
MaxImageHeight: 4096
MaxImageWidth: 4096
Supported Query Formats: JSON, geoJSON, PBF
Supports Query Data Elements: true
Min Scale: 577790.554289
Max Scale: 141.062147
Supports Datum Transformation: true
Child Resources:
Info
Supported Operations:
QueryLegends
EstimateExportTilesSize
ExportTiles
Return Updates