{
 "currentVersion": 11.1,
 "serviceDescription": "IMG/Peoria2026",
 "name": "IMG/Peoria2026",
 "description": "",
 "extent": {
  "xmin": 522500.0939693041,
  "ymin": 907500.041928665,
  "xmax": 632500.0766103284,
  "ymax": 1097499.8963478617,
  "spatialReference": {
   "wkid": 2868,
   "latestWkid": 2868
  }
 },
 "initialExtent": {
  "xmin": 522500.0939693041,
  "ymin": 907500.041928665,
  "xmax": 632500.0766103284,
  "ymax": 1097499.8963478617,
  "spatialReference": {
   "wkid": 2868,
   "latestWkid": 2868
  }
 },
 "fullExtent": {
  "xmin": 522500.0939693041,
  "ymin": 907500.041928665,
  "xmax": 632500.0766103284,
  "ymax": 1097499.8963478617,
  "spatialReference": {
   "wkid": 2868,
   "latestWkid": 2868
  }
 },
 "sortableFields": "",
 "bandCount": 3,
 "pixelType": "U8",
 "minValues": [],
 "maxValues": [],
 "meanValues": [],
 "stdvValues": [],
 "hasMultidimensions": false,
 "pixelSizeX": 0.21192804972415494,
 "pixelSizeY": 0.21192804972415505,
 "datasetFormat": "AFR",
 "uncompressedSize": 1396015551960,
 "blockWidth": 256,
 "blockHeight": 256,
 "compressionType": "None",
 "bandNames": [
  "Band_1",
  "Band_2",
  "Band_3"
 ],
 "allowCopy": true,
 "allowAnalysis": true,
 "itemAccess": false,
 "minPixelSize": 0,
 "maxPixelSize": 0,
 "copyrightText": "",
 "serviceDataType": "esriImageServiceDataTypeRGB",
 "serviceSourceType": "esriImageServiceSourceTypeDataset",
 "objectIdField": "",
 "fields": [],
 "capabilities": "Image,Metadata,Mensuration",
 "defaultMosaicMethod": "Center",
 "allowedMosaicMethods": "",
 "sortField": "",
 "sortValue": null,
 "sortAscending": true,
 "mosaicOperator": "First",
 "defaultCompressionQuality": 75,
 "defaultResamplingMethod": "Bilinear",
 "maxImageHeight": 4100,
 "maxImageWidth": 15000,
 "allowRasterFunction": true,
 "rasterFunctionInfos": [
  {
   "name": "None",
   "description": "",
   "help": ""
  }
 ],
 "rasterTypeInfos": [
  {
   "name": "Raster Dataset",
   "description": "Supports all ArcGIS Raster Datasets",
   "help": ""
  }
 ],
 "mensurationCapabilities": "Basic",
 "hasHistograms": false,
 "hasColormap": false,
 "hasRasterAttributeTable": false,
 "minScale": 0,
 "maxScale": 0,
 "exportTilesAllowed": false,
 "supportsStatistics": false,
 "supportsAdvancedQueries": false,
 "editFieldsInfo": null,
 "ownershipBasedAccessControlForRasters": null,
 "allowComputeTiePoints": false,
 "useStandardizedQueries": true,
 "advancedQueryCapabilities": {
  "useStandardizedQueries": true,
  "supportsStatistics": false,
  "supportsOrderBy": false,
  "supportsDistinct": false,
  "supportsPagination": false
 },
 "spatialReference": {
  "wkid": 2868,
  "latestWkid": 2868
 }
}
