{
 "currentVersion": 11.5,
 "cimVersion": "3.5.0",
 "serviceDescription": "",
 "mapName": "Stantec2025HD2",
 "description": "",
 "copyrightText": "",
 "supportsDynamicLayers": false,
 "layers": [
  {
   "id": 0,
   "name": "Stantec2025HD2",
   "parentLayerId": -1,
   "defaultVisibility": true,
   "subLayerIds": null,
   "minScale": 0,
   "maxScale": 0,
   "type": "Raster Layer",
   "supportsDynamicLegends": true
  }
 ],
 "tables": [],
 "spatialReference": {
  "wkid": 2868,
  "latestWkid": 2868,
  "xyTolerance": 0.0032808398950131233,
  "zTolerance": 0.001,
  "mTolerance": 0.001,
  "falseX": -17746700,
  "falseY": -44067300,
  "xyUnits": 1.3725486072514725E8,
  "falseZ": -100000,
  "zUnits": 10000,
  "falseM": -100000,
  "mUnits": 10000
 },
 "singleFusedMapCache": true,
 "tileInfo": {
  "rows": 256,
  "cols": 256,
  "dpi": 96,
  "format": "JPEG",
  "compressionQuality": 75,
  "origin": {
   "x": -17746700,
   "y": 21556600
  },
  "spatialReference": {
   "wkid": 2868,
   "latestWkid": 2868,
   "xyTolerance": 0.0032808398950131233,
   "zTolerance": 0.001,
   "mTolerance": 0.001,
   "falseX": -17746700,
   "falseY": -44067300,
   "xyUnits": 1.3725486072514725E8,
   "falseZ": -100000,
   "zUnits": 10000,
   "falseM": -100000,
   "mUnits": 10000
  },
  "lods": [
   {
    "level": 0,
    "resolution": 217.0143229175347,
    "scale": 250000
   },
   {
    "level": 1,
    "resolution": 108.50716145876736,
    "scale": 125000
   },
   {
    "level": 2,
    "resolution": 54.25358072938368,
    "scale": 62500
   },
   {
    "level": 3,
    "resolution": 27.12679036469184,
    "scale": 31250
   },
   {
    "level": 4,
    "resolution": 13.56339518234592,
    "scale": 15625
   },
   {
    "level": 5,
    "resolution": 6.78169759117296,
    "scale": 7812.5
   },
   {
    "level": 6,
    "resolution": 3.39084879558648,
    "scale": 3906.25
   },
   {
    "level": 7,
    "resolution": 1.69542439779324,
    "scale": 1953.125
   },
   {
    "level": 8,
    "resolution": 0.84771219889662,
    "scale": 976.5625
   },
   {
    "level": 9,
    "resolution": 0.42385609944831,
    "scale": 488.28125
   },
   {
    "level": 10,
    "resolution": 0.211928049724155,
    "scale": 244.140625
   }
  ]
 },
 "storageInfo": {
  "storageFormat": "esriMapCacheStorageModeCompact",
  "packetSize": 128
 },
 "initialExtent": {
  "xmin": 535142.2909015132,
  "ymin": 920741.3912466493,
  "xmax": 616668.1506017244,
  "ymax": 1083383.284184515,
  "spatialReference": {
   "wkid": 2868,
   "latestWkid": 2868,
   "xyTolerance": 0.0032808398950131233,
   "zTolerance": 0.001,
   "mTolerance": 0.001,
   "falseX": -17746700,
   "falseY": -44067300,
   "xyUnits": 1.3725486072514725E8,
   "falseZ": -100000,
   "zUnits": 10000,
   "falseM": -100000,
   "mUnits": 10000
  }
 },
 "fullExtent": {
  "xmin": 538848.0117969774,
  "ymin": 928134.2045620069,
  "xmax": 612962.4297062602,
  "ymax": 1075990.4708691575,
  "spatialReference": {
   "wkid": 2868,
   "latestWkid": 2868,
   "xyTolerance": 0.0032808398950131233,
   "zTolerance": 0.001,
   "mTolerance": 0.001,
   "falseX": -17746700,
   "falseY": -44067300,
   "xyUnits": 1.3725486072514725E8,
   "falseZ": -100000,
   "zUnits": 10000,
   "falseM": -100000,
   "mUnits": 10000
  }
 },
 "datesInUnknownTimezone": false,
 "units": "esriFeet",
 "supportedImageFormatTypes": "PNG32,PNG24,PNG,JPG,DIB,TIFF,EMF,PS,PDF,GIF,SVG,SVGZ,BMP",
 "documentInfo": {
  "Title": "C:\\Users\\breed\\AppData\\Local\\Temp\\ArcGISProTemp28220\\D14F3268-FE38-4544-9CB0-181467B79E19.msd",
  "Author": "",
  "Comments": "",
  "Subject": "",
  "Category": "",
  "Version": "1.0.0",
  "AntialiasingMode": "None",
  "TextAntialiasingMode": "Force",
  "Keywords": ""
 },
 "supportsQueryDomains": true,
 "supportedQueryFormats": "JSON, geoJSON, PBF",
 "referenceScale": 0.0,
 "supportsDatumTransformation": true,
 "archivingInfo": {
  "supportsHistoricMoment": false
 },
 "supportsClipping": true,
 "supportsSpatialFilter": true,
 "supportsTimeRelation": true,
 "supportsQueryDataElements": true,
 "mapUnits": {
  "uwkid": 9002
 },
 "maxSelectionCount": 2000,
 "maxRecordCount": 1000,
 "maxImageHeight": 4096,
 "maxImageWidth": 4096,
 "capabilities": "TilesOnly,Tilemap",
 "minLOD": 0,
 "maxLOD": 10,
 "minScale": 147914382,
 "maxScale": 400,
 "exportTilesAllowed": true,
 "maxExportTilesCount": 100000,
 "supportedExtensions": "",
 "serviceItemId": "57469ba666674cfcb87c8c48bc895bbf"
}
